BEGIN:VCALENDAR
VERSION:2.0
PRODID:-//wp-events-plugin.com//7.2.2.1//EN
TZID:Europe/Paris
X-WR-TIMEZONE:Europe/Paris
BEGIN:VEVENT
UID:2198@astrotouraine.fr
DTSTART;TZID=Europe/Paris:20261016T093000
DTEND;TZID=Europe/Paris:20261018T234500
DTSTAMP:20260112T164504Z
URL:https://www.astrotouraine.fr/evenements/stage-1e-et-2e-etoile-session-
 speciale-4/
SUMMARY:Stage 1e et 2e étoile - session spéciale
DESCRIPTION:Session extraordinaire sur un week-end (du vendredi 17h au dima
 nche 17h).\n\nCe week-end est destiné aux personnes n’ayant pas pu s’
 inscrire ou se rendre disponible aux précédentes sessions.\n\nLe contenu
  est strictement identique aux stages 1ère et 2ème étoile. Contenu non 
 exhaustif :\n\n 	S’orienter et se repérer sous le ciel nocturne\n 	Méc
 anique Céleste (Notions de mécanique céleste\, Système solaire\, Lune\
 , planètes observables\, satellites de Jupiter\, anneaux de Saturne)\n 	I
 nstruments et Observation (Principes optiques et caractéristiques des ins
 truments\, préparer une observation\, conditions et outils\, monter\, ré
 gler\, collimater\, un télescope\, le mettre en station)\n 	Utiliser un i
 nstrument d’observation (Savoir pointer au chercheur\, Push To\, GoTo\,
 …\, pouvoir pointer\, suivre\, observer un objet de Messier\, une planè
 te\, être capable de repérer quelques objets accessibles à l’instrume
 nt utilisé).\n 	Notions d’astrophysique (Notions de spectroscopie\,&nbs
 p\;les évolutions stellaires\, les catégories d’étoiles\, la Voie Lac
 tée et les structures observables dans l’Univers).\n\nLes tarifs inclue
 nt les 4 repas.\n\nLes veillées du vendredi et samedi soir sont remplacé
 es en cas de météo défavorable&nbsp\;par des sessions de planétarium e
 t/ou des manipulations d’instruments.\n\nLes participants peuvent apport
 er leur propre matériel d’observation s’ils en ont un\, mais le club 
 possède suffisamment de télescopes ou lunettes pour permettre à chacun 
 de procéder aux réglages puis aux observations.
ATTACH;FMTTYPE=image/jpeg:https://www.astrotouraine.fr/wp-content/uploads/
 2023/06/Animation_groupe_2021-x.jpg
CATEGORIES:À l'observatoire,Stage,Stage adultes
LOCATION:Observatoire\, Ligoret\, Tauxigny-Saint-Bauld\, 37310\, France
X-APPLE-STRUCTURED-LOCATION;VALUE=URI;X-ADDRESS=Ligoret\, Tauxigny-Saint-Ba
 uld\, 37310\, France;X-APPLE-RADIUS=100;X-TITLE=Observatoire:geo:0,0
END:VEVENT
BEGIN:VTIMEZONE
TZID:Europe/Paris
X-LIC-LOCATION:Europe/Paris
BEGIN:DAYLIGHT
DTSTART:20260329T030000
TZOFFSETFROM:+0100
TZOFFSETTO:+0200
TZNAME:CEST
END:DAYLIGHT
END:VTIMEZONE
END:VCALENDAR