BEGIN:VCALENDAR
VERSION:2.0
PRODID:-//wp-events-plugin.com//7.2.2.1//EN
TZID:Europe/Paris
X-WR-TIMEZONE:Europe/Paris
BEGIN:VEVENT
UID:1889@astrotouraine.fr
DTSTART;TZID=Europe/Paris:20240712T193000
DTEND;TZID=Europe/Paris:20240712T233000
DTSTAMP:20240508T103948Z
URL:https://www.astrotouraine.fr/evenements/pique-nique-astronomique-au-ch
 ateau-damboise/
SUMMARY:Pique-nique astronomique au Château d'Amboise
DESCRIPTION:La Société Astronomique de Touraine sera présente au Châtea
 u d'Amboise pour une soirée d'animation - pique-nique et astronomie - dan
 s un cadre exceptionnel.\n\nAccès au site (jardins du château) entre 19h
 30 et 20h30\, fin de soirée à 23h30.\n\nSoirée payante\, les réservati
 ons sont à faire auprès du Château d'Amboise : : https://chateauamboise
 .tickeasy.com/fr-FR/accueil\n\n&nbsp\;
ATTACH;FMTTYPE=image/jpeg:https://www.astrotouraine.fr/wp-content/uploads/
 2023/07/Chateau-Amboise-r.jpg
CATEGORIES:Événement public sur réservation,Hors les murs
LOCATION:Château d'Amboise\, montée de l’Emir Abd El Kader\, Amboise\, 
 France\, 37400\, France
X-APPLE-STRUCTURED-LOCATION;VALUE=URI;X-ADDRESS=montée de l’Emir Abd El 
 Kader\, Amboise\, France\, 37400\, France;X-APPLE-RADIUS=100;X-TITLE=Chât
 eau d'Amboise:geo:0,0
END:VEVENT
BEGIN:VTIMEZONE
TZID:Europe/Paris
X-LIC-LOCATION:Europe/Paris
BEGIN:DAYLIGHT
DTSTART:20240331T030000
TZOFFSETFROM:+0100
TZOFFSETTO:+0200
TZNAME:CEST
END:DAYLIGHT
END:VTIMEZONE
END:VCALENDAR