BEGIN:VCALENDAR
VERSION:2.0
PRODID:-//wp-events-plugin.com//7.2.2.1//EN
TZID:Europe/Paris
X-WR-TIMEZONE:Europe/Paris
BEGIN:VEVENT
UID:2080@astrotouraine.fr
DTSTART;TZID=Europe/Paris:20260606T200000
DTEND;TZID=Europe/Paris:20260606T235900
DTSTAMP:20251013T101716Z
URL:https://www.astrotouraine.fr/evenements/decouverte-du-ciel-et-pratique
 -des-instruments/
SUMMARY:Découverte du ciel et pratique des Instruments
DESCRIPTION:Soirée Découverte du ciel et spéciale "Instruments"\n\n&nbsp
 \;&nbsp\;&nbsp\;&nbsp\;&nbsp\;&nbsp\;&nbsp\;&nbsp\;&nbsp\;&nbsp\;&nbsp\;&n
 bsp\;La soirée se déroule en deux parties&nbsp\;:&nbsp\;\n\nPrésentatio
 n à l'oeil nu des principaux astres et constellations observables à ce m
 oment de l’année.\n\nObservation au télescope\, où vous apprendrez à
  vous servir d'un instrument et tout ce qu'il faut savoir pour en tirer le
  meilleur parti.&nbsp\;\n\n=&gt\; Apportez votre télescope ou lunette per
 sonnel et apprenez à vous perfectionner dans son maniement. Si ce n'est p
 as le cas\, vous observerez le ciel - planètes\, lune\, nébuleuses\, ama
 s d'étoiles\, galaxies - dans les télescopes du club.\n\nAdultes : 12 eu
 ros&nbsp\; /&nbsp\; &nbsp\;Enfants moins de 12 ans : 6 euros\n\n
ATTACH;FMTTYPE=image/jpeg:https://www.astrotouraine.fr/wp-content/uploads/
 2024/06/Soirees-Decouvertes.jpg
CATEGORIES:Événement public sur réservation,À l'observatoire,Stage
 adultes
LOCATION:Observatoire\, Ligoret\, Tauxigny-Saint-Bauld\, 37310\, France
X-APPLE-STRUCTURED-LOCATION;VALUE=URI;X-ADDRESS=Ligoret\, Tauxigny-Saint-Ba
 uld\, 37310\, France;X-APPLE-RADIUS=100;X-TITLE=Observatoire:geo:0,0
END:VEVENT
BEGIN:VTIMEZONE
TZID:Europe/Paris
X-LIC-LOCATION:Europe/Paris
BEGIN:DAYLIGHT
DTSTART:20260329T030000
TZOFFSETFROM:+0100
TZOFFSETTO:+0200
TZNAME:CEST
END:DAYLIGHT
END:VTIMEZONE
END:VCALENDAR