BEGIN:VCALENDAR
VERSION:2.0
PRODID:-//wp-events-plugin.com//7.2.2.1//EN
TZID:Europe/Paris
X-WR-TIMEZONE:Europe/Paris
BEGIN:VEVENT
UID:2081@astrotouraine.fr
DTSTART;TZID=Europe/Paris:20260704T200000
DTEND;TZID=Europe/Paris:20260704T235900
DTSTAMP:20251013T102037Z
URL:https://www.astrotouraine.fr/evenements/decouverte-du-ciel-dete-3/
SUMMARY:Découverte du Ciel d'Été
DESCRIPTION:Venez découvrir le ciel d'été\, les planètes\, les constell
 ations et bien d'autres merveilles dans les télescopes du club.\n\n&nbsp\
 ;&nbsp\;&nbsp\;&nbsp\;&nbsp\;&nbsp\;&nbsp\;&nbsp\;&nbsp\;&nbsp\;&nbsp\;&nb
 sp\;La soirée se déroule en deux parties&nbsp\;:&nbsp\;\n\nPrésentation
  à l'oeil nu des principaux astres et constellations observables à ce mo
 ment de l’année.\n\nObservation au télescope des objets abordés en pr
 emière partie\, mais aussi nébuleuses\, amas d’étoiles\, galaxies.\n\
 nAdultes : 12 euros&nbsp\; /&nbsp\; &nbsp\;Enfants moins de 12 ans : 6 eur
 os\n\n
ATTACH;FMTTYPE=image/jpeg:https://www.astrotouraine.fr/wp-content/uploads/
 2024/06/Soirees-Decouvertes.jpg
CATEGORIES:À l'observatoire,Stage,Stage adultes
LOCATION:Observatoire\, Ligoret\, Tauxigny-Saint-Bauld\, 37310\, France
X-APPLE-STRUCTURED-LOCATION;VALUE=URI;X-ADDRESS=Ligoret\, Tauxigny-Saint-Ba
 uld\, 37310\, France;X-APPLE-RADIUS=100;X-TITLE=Observatoire:geo:0,0
END:VEVENT
BEGIN:VTIMEZONE
TZID:Europe/Paris
X-LIC-LOCATION:Europe/Paris
BEGIN:DAYLIGHT
DTSTART:20260329T030000
TZOFFSETFROM:+0100
TZOFFSETTO:+0200
TZNAME:CEST
END:DAYLIGHT
END:VTIMEZONE
END:VCALENDAR