BEGIN:VCALENDAR
VERSION:2.0
PRODID:-//wp-events-plugin.com//7.2.2.1//EN
TZID:Europe/Paris
X-WR-TIMEZONE:Europe/Paris
BEGIN:VEVENT
UID:1898@astrotouraine.fr
DTSTART;TZID=Europe/Paris:20240803T190000
DTEND;TZID=Europe/Paris:20240803T235900
DTSTAMP:20240704T160310Z
URL:https://www.astrotouraine.fr/evenements/chedigny/
SUMMARY:Chédigny
DESCRIPTION:Le Comité des Fêtes de Chédigny vous convie à une soirée "
 La tête dans Étoiles"\, en compagnie des astronomes de la Société Astr
 onomique de Touraine.\n\nPique-nique\, animations\, mini-conférence dès 
 l'apparition de la première étoile\, observation du ciel.\n\nAnimation p
 ayante (5 €) : se renseigner auprès de la mairie de Chédigny.
ATTACH;FMTTYPE=image/jpeg:https://www.astrotouraine.fr/wp-content/uploads/
 2024/06/Chedigny-2024.jpg
CATEGORIES:Événement public sur réservation,Hors les murs
LOCATION:Chédigny\, Rue de Flandres-Dunkerque\, Chédigny\, Fance\, 37310\
 , France
X-APPLE-STRUCTURED-LOCATION;VALUE=URI;X-ADDRESS=Rue de Flandres-Dunkerque\,
  Chédigny\, Fance\, 37310\, France;X-APPLE-RADIUS=100;X-TITLE=Chédigny:g
 eo:0,0
END:VEVENT
BEGIN:VTIMEZONE
TZID:Europe/Paris
X-LIC-LOCATION:Europe/Paris
BEGIN:DAYLIGHT
DTSTART:20240331T030000
TZOFFSETFROM:+0100
TZOFFSETTO:+0200
TZNAME:CEST
END:DAYLIGHT
END:VTIMEZONE
END:VCALENDAR