BEGIN:VCALENDAR
VERSION:2.0
PRODID:-//wp-events-plugin.com//7.2.2.1//EN
TZID:Europe/Paris
X-WR-TIMEZONE:Europe/Paris
BEGIN:VEVENT
UID:1892@astrotouraine.fr
DTSTART;TZID=Europe/Paris:20240802T200000
DTEND;TZID=Europe/Paris:20240802T235900
DTSTAMP:20240724T080018Z
URL:https://www.astrotouraine.fr/evenements/abbaye-de-marmoutier/
SUMMARY:Abbaye de Marmoutier
DESCRIPTION:Soirée déambulation et observation du ciel dans le site prest
 igieux de l'Abbaye de Marmoutier. Tarif 4€ sur réservation. Les inscrip
 tions se font auprès de la Mairie de Tours via le lien suivant :\n\nInscr
 iptions à la soirée du 2 août à l'Abbaye de Marmoutier\npuis cliquez s
 ur "LES ANIMATIONS À L’ABBAYE DE MARMOUTIER" puis "Profiter de la quié
 tude du site de Marmoutier durant la SOIRÉE ASTRONOMIE"\n\n\n
ATTACH;FMTTYPE=image/jpeg:https://www.astrotouraine.fr/wp-content/uploads/
 2024/05/Marmoutier-3.jpg
CATEGORIES:Événement public sur réservation,Hors les murs
LOCATION:Abbaye de Marmoutier\, 60\, rue Saint-Gatien\, Tours\, France\, 37
 100\, France
X-APPLE-STRUCTURED-LOCATION;VALUE=URI;X-ADDRESS=60\, rue Saint-Gatien\, Tou
 rs\, France\, 37100\, France;X-APPLE-RADIUS=100;X-TITLE=Abbaye de Marmouti
 er:geo:0,0
END:VEVENT
BEGIN:VTIMEZONE
TZID:Europe/Paris
X-LIC-LOCATION:Europe/Paris
BEGIN:DAYLIGHT
DTSTART:20240331T030000
TZOFFSETFROM:+0100
TZOFFSETTO:+0200
TZNAME:CEST
END:DAYLIGHT
END:VTIMEZONE
END:VCALENDAR